BEGIN:VCALENDAR

VERSION:2.0

PRODID:-//hacksw/handcal//NONSGML v1.0//EN

CALSCALE:GREGORIAN

METHOD:REQUEST

TRANSP:OPAQUE

BEGIN:VEVENT

UID:1edca9b740deb2876f6bb873ede753c2
DTSTAMP:20260421T095150
DTSTART:20260314T163006
DTEND:20260314T183006
SUMMARY:BYOB Hand Building (Mar 14)
DESCRIPTION:BYOB Hand Building (Mar 14)
LOCATION:
END:VEVENT

END:VCALENDAR
