BEGIN:VCALENDAR

VERSION:2.0

PRODID:-//hacksw/handcal//NONSGML v1.0//EN

CALSCALE:GREGORIAN

METHOD:REQUEST

TRANSP:OPAQUE

BEGIN:VEVENT

UID:68769006e2e5940c4011c1a0a6591a34
DTSTAMP:20260421T094821
DTSTART:20260308T163009
DTEND:20260308T183009
SUMMARY:BYOB Intro to Pottery Wheel (Mar 8)
DESCRIPTION:BYOB Intro to Pottery Wheel (Mar 8)
LOCATION:
END:VEVENT

END:VCALENDAR
